BEGIN:VCALENDAR
VERSION:2.0
PRODID:-//Colors2life - ECPv5.10.1//NONSGML v1.0//EN
CALSCALE:GREGORIAN
METHOD:PUBLISH
X-WR-CALNAME:Colors2life
X-ORIGINAL-URL:https://colors2lifefoundation.org
X-WR-CALDESC:Events for Colors2life
BEGIN:VTIMEZONE
TZID:UTC
BEGIN:STANDARD
TZOFFSETFROM:+0000
TZOFFSETTO:+0000
TZNAME:UTC
DTSTART:20220101T000000
END:STANDARD
END:VTIMEZONE
BEGIN:VEVENT
DTSTART;VALUE=DATE:20221222
DTEND;VALUE=DATE:20221223
DTSTAMP:20260423T105956
CREATED:20221222T133347Z
LAST-MODIFIED:20221222T133821Z
UID:1849-1671667200-1671753599@colors2lifefoundation.org
SUMMARY:MCC ( CLARKE DEAF HOME )
DESCRIPTION:  \n 
URL:https://colors2lifefoundation.org/event/mcc-clarke-deaf-home/
CATEGORIES:cat list one
ATTACH;FMTTYPE=image/jpeg:https://colors2lifefoundation.org/wp-content/uploads/2022/12/DSC_0329.jpg
END:VEVENT
BEGIN:VEVENT
DTSTART;VALUE=DATE:20221222
DTEND;VALUE=DATE:20221223
DTSTAMP:20260423T105956
CREATED:20221222T144744Z
LAST-MODIFIED:20221222T144744Z
UID:1969-1671667200-1671753599@colors2lifefoundation.org
SUMMARY:NEWSPAPER POSTS
DESCRIPTION:
URL:https://colors2lifefoundation.org/event/newspaper-posts/
CATEGORIES:cat list one
ATTACH;FMTTYPE=image/jpeg:https://colors2lifefoundation.org/wp-content/uploads/2022/12/DSC_0329.jpg
END:VEVENT
BEGIN:VEVENT
DTSTART;VALUE=DATE:20221222
DTEND;VALUE=DATE:20221223
DTSTAMP:20260423T105956
CREATED:20221222T145150Z
LAST-MODIFIED:20221222T145206Z
UID:1975-1671667200-1671753599@colors2lifefoundation.org
SUMMARY:NEW LIFE VISION ORPHANAGE
DESCRIPTION:
URL:https://colors2lifefoundation.org/event/new-life-vision-orphanage/
CATEGORIES:cat list one
ATTACH;FMTTYPE=image/jpeg:https://colors2lifefoundation.org/wp-content/uploads/2022/12/63573_132294600165298_8020665_n.jpg
END:VEVENT
END:VCALENDAR